BEGIN:VCALENDAR
VERSION:2.0
PRODID:-//Office du Tourisme du Roeulx - ECPv4.9.7//NONSGML v1.0//EN
CALSCALE:GREGORIAN
METHOD:PUBLISH
X-WR-CALNAME:Office du Tourisme du Roeulx
X-ORIGINAL-URL:https://www.leroeulxtourisme.be
X-WR-CALDESC:Évènements pour Office du Tourisme du Roeulx
BEGIN:VTIMEZONE
TZID:"Europe/Brussels"
BEGIN:DAYLIGHT
TZOFFSETFROM:+0100
TZOFFSETTO:+0200
TZNAME:CEST
DTSTART:20180325T010000
END:DAYLIGHT
BEGIN:STANDARD
TZOFFSETFROM:+0200
TZOFFSETTO:+0100
TZNAME:CET
DTSTART:20181028T010000
END:STANDARD
END:VTIMEZONE
BEGIN:VEVENT
DTSTART;TZID="Europe/Brussels":20180623T173000
DTEND;TZID="Europe/Brussels":20180623T235500
DTSTAMP:20260424T173230
CREATED:20180511T120915Z
LAST-MODIFIED:20180511T120947Z
UID:4178-1529775000-1529798100@www.leroeulxtourisme.be
SUMMARY:19e Grand Feu de la Saint-Jean
DESCRIPTION:
URL:https://www.leroeulxtourisme.be/evenement/19e-grand-feu-de-la-saint-jean/
CATEGORIES:Festivités
ATTACH;FMTTYPE=image/jpeg:https://www.leroeulxtourisme.be/wp-content/uploads/2018/05/Affiche-Feu-de-la-St-Jean-2018.jpg
END:VEVENT
END:VCALENDAR