BEGIN:VCALENDAR
VERSION:2.0
PRODID:-//Office du Tourisme du Roeulx - ECPv4.9.7//NONSGML v1.0//EN
CALSCALE:GREGORIAN
METHOD:PUBLISH
X-WR-CALNAME:Office du Tourisme du Roeulx
X-ORIGINAL-URL:https://www.leroeulxtourisme.be
X-WR-CALDESC:Évènements pour Office du Tourisme du Roeulx
BEGIN:VTIMEZONE
TZID:"Europe/Brussels"
BEGIN:DAYLIGHT
TZOFFSETFROM:+0100
TZOFFSETTO:+0200
TZNAME:CEST
DTSTART:20190331T010000
END:DAYLIGHT
BEGIN:STANDARD
TZOFFSETFROM:+0200
TZOFFSETTO:+0100
TZNAME:CET
DTSTART:20191027T010000
END:STANDARD
END:VTIMEZONE
BEGIN:VEVENT
DTSTART;VALUE=DATE:20190901
DTEND;VALUE=DATE:20190902
DTSTAMP:20260419T170455
CREATED:20190709T134005Z
LAST-MODIFIED:20190726T085319Z
UID:5315-1567296000-1567382399@www.leroeulxtourisme.be
SUMMARY:6e Bénédiction des Motards\, 5e Rallye St-Feuillien et baptêmes en voitures de prestige
DESCRIPTION: \n \n  \n
URL:https://www.leroeulxtourisme.be/evenement/6e-benediction-des-motards-5e-rallye-st-feuillien-et-baptemes-en-voitures-de-prestige/
LOCATION:Grand’Place du Roeulx\, Grand'Place 1\, Le Roeulx\, 7070\, Belgique
CATEGORIES:Festivités
ATTACH;FMTTYPE=image/jpeg:https://www.leroeulxtourisme.be/wp-content/uploads/2019/07/affiche-Benediction-des-Motards-2019-w-1.jpg
END:VEVENT
END:VCALENDAR