BEGIN:VCALENDAR
VERSION:2.0
PRODID:-//Office du Tourisme du Roeulx - ECPv4.9.7//NONSGML v1.0//EN
CALSCALE:GREGORIAN
METHOD:PUBLISH
X-WR-CALNAME:Office du Tourisme du Roeulx
X-ORIGINAL-URL:https://www.leroeulxtourisme.be
X-WR-CALDESC:Évènements pour Office du Tourisme du Roeulx
BEGIN:VTIMEZONE
TZID:"Europe/Brussels"
BEGIN:DAYLIGHT
TZOFFSETFROM:+0100
TZOFFSETTO:+0200
TZNAME:CEST
DTSTART:20170326T010000
END:DAYLIGHT
BEGIN:STANDARD
TZOFFSETFROM:+0200
TZOFFSETTO:+0100
TZNAME:CET
DTSTART:20171029T010000
END:STANDARD
END:VTIMEZONE
BEGIN:VEVENT
DTSTART;VALUE=DATE:20170812
DTEND;VALUE=DATE:20170814
DTSTAMP:20260424T114806
CREATED:20170714T100509Z
LAST-MODIFIED:20170714T100509Z
UID:2656-1502496000-1502668799@www.leroeulxtourisme.be
SUMMARY:6e édition du Beach-Volley Rhodien
DESCRIPTION:Nous voilà partis pour notre 6ème tournoi de beach-volley organisé dans la commune du Roeulx ! \nCette compétition\, organisée au profit de Make-A-Wish aura lieu les samedi 12 et dimanche 13 août 2017. \nLa participation s’élève à 25 euros par joueur\, ce qui comprend un tee-shirt\, un pain viande le midi et barbecue le soir. Ainsi que de nombreuses surprises et la participation au rêve d’un enfant. \nA l’issue des matches de poule\, les demi-finales et finale seront organisées et la remise des prix aura lieu vers 18H. \nA ce tournoi s’ajoute une compétition de pétanque le dimanche (doublette formée) avec également la possibilité de combiner la participation au barbecue. \nLes enfants présents sur le site ne seront pas oubliés : des animations et stands les combleront de bonheur (château gonflable\, pêche aux canards…). \nDe nombreuses animations seront prévues tout au long de ce week-end\, cours de Zumba\, démonstration de danse ainsi que plusieurs concerts le samedi et dimanche soir. \nDe multiples surprises vous attendent toutes et tous ainsi que des cadeaux en fonction de votre résultat dans le tournoi. Il est possible pour les accompagnants de participer également aux barbecues des samedi soir et dimanche midi et soir (13 eur/adulte et 8 eur/enfant par barbecue). \nPlus d’informations ? Surfez sur le site www.beachvolleyrhodien.be ou appelez sans tarder les organisateurs Dimitri Decamps 0479/799893 ou Gaëtan Rizzante 0474/466760. \nNous vous attendons nombreux afin que cette manifestation soit un succès. Aidez-nous à concrétiser le rêve d’un enfant. Nous comptons sur vous ! \n
URL:https://www.leroeulxtourisme.be/evenement/6e-edition-beach-volley-rhodien/
LOCATION:Place de la Chapelle\, Place de la Chapelle\, Le Roeulx\, 7070\, Belgique
CATEGORIES:Sport
ATTACH;FMTTYPE=image/jpeg:https://www.leroeulxtourisme.be/wp-content/uploads/2017/07/affiche-web-beach-volley-rhodien-2017.jpg
END:VEVENT
END:VCALENDAR