BEGIN:VCALENDAR
VERSION:2.0
PRODID:-//Office du Tourisme du Roeulx - ECPv4.9.7//NONSGML v1.0//EN
CALSCALE:GREGORIAN
METHOD:PUBLISH
X-WR-CALNAME:Office du Tourisme du Roeulx
X-ORIGINAL-URL:https://www.leroeulxtourisme.be
X-WR-CALDESC:Évènements pour Office du Tourisme du Roeulx
BEGIN:VTIMEZONE
TZID:"Europe/Brussels"
BEGIN:DAYLIGHT
TZOFFSETFROM:+0100
TZOFFSETTO:+0200
TZNAME:CEST
DTSTART:20200329T010000
END:DAYLIGHT
BEGIN:STANDARD
TZOFFSETFROM:+0200
TZOFFSETTO:+0100
TZNAME:CET
DTSTART:20201025T010000
END:STANDARD
END:VTIMEZONE
BEGIN:VEVENT
DTSTART;VALUE=DATE:20200621
DTEND;VALUE=DATE:20200622
DTSTAMP:20260422T160636
CREATED:20200220T162142Z
LAST-MODIFIED:20200420T113240Z
UID:6106-1592697600-1592783999@www.leroeulxtourisme.be
SUMMARY:Balade accompagnée "La Basse Wanze" (ANNULÉ)
DESCRIPTION: En raison des mesures de sécurité liées à la pandémie du Covid-19\, cet événement est annulé.\n \nLa Wanze est un cours d’eau qui traverse le village de Gottignies pour aller se jeter dans la Haine à Ville-sur-Haine. L’idéal pour découvrir certains lieux-dits comme « les fonds de Gottignies »\, « le sentier du Chien » ou « la Biercée ». Après la traversée du village de Gottignies\, tout en longeant la Wanze et profitant de ses berges bucoliques\, vous découvrirez tout le charme et les attraits du village de Ville-sur-Haine. \nInfos pratiques\n9\,5 km – Départ à 9h30 de la Place de Gottignies. \nPetites routes en revêtement dur et sentiers qui peuvent être boueux en certains endroits. \nLes chiens sont autorisés mais doivent être tenus en laisse. \nInscription\nParticipation gratuite mais inscription obligatoire en envoyant un mail à tourisme@leroeulx.be ou en téléphonant au 064/310.760 \n
URL:https://www.leroeulxtourisme.be/evenement/balade-accompagnee-la-basse-wanze-2/
LOCATION:Place de Gottignies\, Place de Gottignies\, 7070 Gottignies\, 7070\, Belgique
CATEGORIES:Promenade
ATTACH;FMTTYPE=image/jpeg:https://www.leroeulxtourisme.be/wp-content/uploads/2020/02/03-Balade-21-juin-2020.jpg
END:VEVENT
END:VCALENDAR