BEGIN:VCALENDAR
VERSION:2.0
PRODID:-//Office du Tourisme du Roeulx - ECPv4.9.7//NONSGML v1.0//EN
CALSCALE:GREGORIAN
METHOD:PUBLISH
X-WR-CALNAME:Office du Tourisme du Roeulx
X-ORIGINAL-URL:https://www.leroeulxtourisme.be
X-WR-CALDESC:Évènements pour Office du Tourisme du Roeulx
BEGIN:VTIMEZONE
TZID:"Europe/Brussels"
BEGIN:DAYLIGHT
TZOFFSETFROM:+0100
TZOFFSETTO:+0200
TZNAME:CEST
DTSTART:20180325T010000
END:DAYLIGHT
BEGIN:STANDARD
TZOFFSETFROM:+0200
TZOFFSETTO:+0100
TZNAME:CET
DTSTART:20181028T010000
END:STANDARD
END:VTIMEZONE
BEGIN:VEVENT
DTSTART;TZID="Europe/Brussels":20180520T110000
DTEND;TZID="Europe/Brussels":20180520T123000
DTSTAMP:20260421T110133
CREATED:20180507T071544Z
LAST-MODIFIED:20180507T090430Z
UID:4086-1526814000-1526819400@www.leroeulxtourisme.be
SUMMARY:Balade guidée à Ville-sur-Haine dans le cadre de "Parcours d'Artistes"
DESCRIPTION:Ce dimanche 20 mai\, nous vous proposons un nouveau rendez-vous parmi nos promenades accompagnées en compagnie des guides de l’Office du Tourisme du Roeulx. Un moment mêlant à la fois la découverte du patrimoine local et celle du travail de plusieurs créateurs de la région. En effet\, cette balade vous est proposée dans le cadre du “Parcours d’Artistes” organisé les 19\, 20 et 21 mai dans toute l’entité du Roeulx\, et fera arrêt dans quelques lieux d’exposition permettant de cette manière d’approcher et d’apprécier quelques jolies œuvres d’art. \n\nCircuit d’environ 2\,5 km\nDépart à 11h00\, place de la Wanze (7070 Ville-sur-Haine)\nDurée : 1h15 environ.\nCircuit faisant arrêt dans plusieurs lieux remarquables et/ou historiques du village\, ainsi que dans trois lieux d’expositions ouverts dans le cadre du Parcours d’Artistes.\nPetites routes en revêtement dur dans le centre du village.\n\nLa participation à cette balade est gratuite. Inscription souhaitée à l’Office du Tourisme du Roeulx : 064/310.760 ou tourisme@leroeulx.be \n
URL:https://www.leroeulxtourisme.be/evenement/balade-guidee-a-ville-sur-haine-dans-le-cadre-de-parcours-dartistes/
LOCATION:Place de la Wanze\, Place de la Wanze\, Ville-sur-Haine\, 7070\, Belgique
CATEGORIES:Culture,Exposition,Promenade
ATTACH;FMTTYPE=image/jpeg:https://www.leroeulxtourisme.be/wp-content/uploads/2018/05/Balade-OT-Parcours-artistes-2018.jpg
ORGANIZER;CN="Office%20du%20Tourisme":MAILTO:tourisme@leroeulx.be
END:VEVENT
END:VCALENDAR