BEGIN:VCALENDAR
VERSION:2.0
PRODID:-//Office du Tourisme du Roeulx - ECPv4.9.7//NONSGML v1.0//EN
CALSCALE:GREGORIAN
METHOD:PUBLISH
X-WR-CALNAME:Office du Tourisme du Roeulx
X-ORIGINAL-URL:https://www.leroeulxtourisme.be
X-WR-CALDESC:Évènements pour Office du Tourisme du Roeulx
BEGIN:VTIMEZONE
TZID:"Europe/Brussels"
BEGIN:DAYLIGHT
TZOFFSETFROM:+0100
TZOFFSETTO:+0200
TZNAME:CEST
DTSTART:20170326T010000
END:DAYLIGHT
BEGIN:STANDARD
TZOFFSETFROM:+0200
TZOFFSETTO:+0100
TZNAME:CET
DTSTART:20171029T010000
END:STANDARD
END:VTIMEZONE
BEGIN:VEVENT
DTSTART;TZID="Europe/Brussels":20170908T200000
DTEND;TZID="Europe/Brussels":20170909T010000
DTSTAMP:20260423T230849
CREATED:20170509T073936Z
LAST-MODIFIED:20170821T134303Z
UID:1935-1504900800-1504918800@www.leroeulxtourisme.be
SUMMARY:Concert Mister Cover - Show spécial 15e anniversaire
DESCRIPTION:Après avoir fait 3 sold out à l’Ancienne Belgique\, un concert devant plus de 5.500 personnes à Forest National en décembre 2016 et plus de 3.500 doubles albums vendus\, Mister Cover revient le 8 septembre sur la Grand’Place du Roeulx pour un concert spécial “Tournée 15 ans – Show de Forest National”. Une grosse fiesta de 3h30 non stop ! Il y en aura pour tous les goûts\, tous les âges\, toutes les générations ! \n
URL:https://www.leroeulxtourisme.be/evenement/concert-mister-cover-show-special-15e-anniversaire/
LOCATION:Grand’Place du Roeulx\, Grand'Place 1\, Le Roeulx\, 7070\, Belgique
CATEGORIES:Culture
ATTACH;FMTTYPE=image/jpeg:https://www.leroeulxtourisme.be/wp-content/uploads/2017/05/affiche-Concert-Rock-2017-1000px.jpg
END:VEVENT
END:VCALENDAR