BEGIN:VCALENDAR
VERSION:2.0
PRODID:-//Office du Tourisme du Roeulx - ECPv4.9.7//NONSGML v1.0//EN
CALSCALE:GREGORIAN
METHOD:PUBLISH
X-WR-CALNAME:Office du Tourisme du Roeulx
X-ORIGINAL-URL:https://www.leroeulxtourisme.be
X-WR-CALDESC:Évènements pour Office du Tourisme du Roeulx
BEGIN:VTIMEZONE
TZID:"Europe/Brussels"
BEGIN:DAYLIGHT
TZOFFSETFROM:+0100
TZOFFSETTO:+0200
TZNAME:CEST
DTSTART:20190331T010000
END:DAYLIGHT
BEGIN:STANDARD
TZOFFSETFROM:+0200
TZOFFSETTO:+0100
TZNAME:CET
DTSTART:20191027T010000
END:STANDARD
END:VTIMEZONE
BEGIN:VEVENT
DTSTART;VALUE=DATE:20190630
DTEND;VALUE=DATE:20190701
DTSTAMP:20260419T134750
CREATED:20190510T114116Z
LAST-MODIFIED:20190510T114116Z
UID:4997-1561852800-1561939199@www.leroeulxtourisme.be
SUMMARY:Festival Des ballons et des ailes
DESCRIPTION:La Ville du Roeulx organise la seconde édition de son festival « Des ballons et des ailes ». Un événement rassemblant de nombreuses activités sur le thème aérien ; une version augmentée et étoffée du traditionnel challenge de montgolfières organisé dans la Cité princière depuis plus de 30 ans. Eternels rêveurs\, grands enfants et amateurs de belles mécaniques\, c’est au Roeulx qu’il faudra absolument se rendre le 30 juin prochain avec un programme qui comblera également les plus jeunes : aéronef de la Défense belge en démonstration\, aéromodélisme\, survols acrobatiques d’avions\, envol de montgolfières\, atelier de décoration et initiation à l’envol de cerfs-volants\, atelier créatif de montgolfières\, initiations aux techniques du cirque\, spectacles\, animation musicale mais aussi buvettes\, petites restaurations\, glaces\, sculpture de ballons\, grimage\, châteaux gonflables… \nComplétant les festivités carnavalesques de l’entité du Roeulx\, ce festival constitue un événement unique et déjà largement reconnu dans la région. Un mariage étonnant et détonnant que nous vous proposons de découvrir en détail sur le site www.desballonsetdesailes.be. \n
URL:https://www.leroeulxtourisme.be/evenement/festival-des-ballons-et-des-ailes/
LOCATION:Stade de football du Roeulx\, Rempart des Arbalestriers\, Le Roeulx\, 7070\, Belgique
CATEGORIES:Festivités
ATTACH;FMTTYPE=image/jpeg:https://www.leroeulxtourisme.be/wp-content/uploads/2019/05/affiche_web_des_ballons_et_des_ailes_2019.jpg
ORGANIZER;CN="Office%20du%20Tourisme":MAILTO:tourisme@leroeulx.be
END:VEVENT
END:VCALENDAR