BEGIN:VCALENDAR
VERSION:2.0
PRODID:-//Office du Tourisme du Roeulx - ECPv4.9.7//NONSGML v1.0//EN
CALSCALE:GREGORIAN
METHOD:PUBLISH
X-WR-CALNAME:Office du Tourisme du Roeulx
X-ORIGINAL-URL:https://www.leroeulxtourisme.be
X-WR-CALDESC:Évènements pour Office du Tourisme du Roeulx
BEGIN:VTIMEZONE
TZID:"Europe/Brussels"
BEGIN:DAYLIGHT
TZOFFSETFROM:+0100
TZOFFSETTO:+0200
TZNAME:CEST
DTSTART:20180325T010000
END:DAYLIGHT
BEGIN:STANDARD
TZOFFSETFROM:+0200
TZOFFSETTO:+0100
TZNAME:CET
DTSTART:20181028T010000
END:STANDARD
END:VTIMEZONE
BEGIN:VEVENT
DTSTART;VALUE=DATE:20180818
DTEND;VALUE=DATE:20180819
DTSTAMP:20260423T124117
CREATED:20180703T133446Z
LAST-MODIFIED:20180703T133610Z
UID:4298-1534550400-1534636799@www.leroeulxtourisme.be
SUMMARY:Halte du Beau Vélo de RAVeL à Ville-sur-Haine
DESCRIPTION:Le Beau Vélo de RAVeL remplile pour une 20ème saison de découvertes des plus beaux coins de chez nous ! Chaque samedi\, Adrien Joveneau et les animateurs de Vivacité vous emmènent aux quatre coins de la Wallonie et de Bruxelles. Sur chaque étape\, des personnalités accompagnent les cyclistes\, les partenaires vous accueillent sur leur stand et des concerts gratuits clôturent la journée en beauté. \nLa 9e étape du Beau Vélo de RAVeL 2018 prendra son départ le samedi 18 août à 13h00 au Grand Large à Mons. A mi-parcours\, vers 14h15\, les participants feront une halte à Ville-sur-Haine\, près du futur Mémorial George Price\, et de la passerelle du même nom. Des animations pour petits et grands y seront prévues : musique (concert de cornemuses)\, bar\, ravitaillement d’eau gratuite pour les participants\, stands de partenaires\, dépannage vélos\, présentation d’une spécialité culinaire par un chef étoilé\, … \nL’Office du Tourisme du Roeulx y tiendra également un stand. Au plaisir de vous y rencontrer. \nInfos Beau Vélo de RAVeL sur www.rtbf.be/lebeauvelo \n
URL:https://www.leroeulxtourisme.be/evenement/halte-du-beau-velo-de-ravel-a-ville-sur-haine/
CATEGORIES:Promenade,Sport
ATTACH;FMTTYPE=image/jpeg:https://www.leroeulxtourisme.be/wp-content/uploads/2018/07/Couverture-folder-1.jpg
END:VEVENT
END:VCALENDAR