BEGIN:VCALENDAR
VERSION:2.0
PRODID:-//Office du Tourisme du Roeulx - ECPv4.9.7//NONSGML v1.0//EN
CALSCALE:GREGORIAN
METHOD:PUBLISH
X-WR-CALNAME:Office du Tourisme du Roeulx
X-ORIGINAL-URL:https://www.leroeulxtourisme.be
X-WR-CALDESC:Évènements pour Office du Tourisme du Roeulx
BEGIN:VTIMEZONE
TZID:"Europe/Brussels"
BEGIN:DAYLIGHT
TZOFFSETFROM:+0100
TZOFFSETTO:+0200
TZNAME:CEST
DTSTART:20200329T010000
END:DAYLIGHT
BEGIN:STANDARD
TZOFFSETFROM:+0200
TZOFFSETTO:+0100
TZNAME:CET
DTSTART:20201025T010000
END:STANDARD
END:VTIMEZONE
BEGIN:VEVENT
DTSTART;TZID="Europe/Brussels":20200616T170000
DTEND;TZID="Europe/Brussels":20200616T190000
DTSTAMP:20260422T140124
CREATED:20200430T124407Z
LAST-MODIFIED:20200430T125125Z
UID:6179-1592326800-1592334000@www.leroeulxtourisme.be
SUMMARY:Visite guidée « Les fragrances de la Rose » (ANNULÉ)
DESCRIPTION:\nEn raison des mesures de sécurité liées à la pandémie du Covid-19\, cet événement est annulé.\n \n\nAvec cette balade au coeur de la roseraie et des jardins du Royal Concours International de Roses Nouvelles du Roeulx\, vous découvrirez en compagnie d’un guide\, les nombreuses nuances du parfum de la Reine des fleurs. 800 variétés de roses et près de 5000 rosiers vous attendent dans ce site splendide qui ravira tous vos sens et dont le caractère expérimental saura piquer votre curiosité. \nContact et informations\nGroupe/visite : maximum 25 pers\nGratuit\nLieu : Roseraie de Saint-Jacques\nFaubourg de Binche 1\n7070 Le Roeulx\nRéservation obligatoire :\nOffice du Tourisme du Roeulx – 064 310 760 – tourisme@leroeulx.be \n
URL:https://www.leroeulxtourisme.be/evenement/visite-guidee-les-fragrances-de-la-rose/
LOCATION:Jardins des Roses du Roeulx\, Faubourg de Binche 1\, Le Roeulx\, 7070\, Belgique
CATEGORIES:Visite
ATTACH;FMTTYPE=image/jpeg:https://www.leroeulxtourisme.be/wp-content/uploads/2020/04/Visite-roseraie-parfum-.jpg
END:VEVENT
END:VCALENDAR