BEGIN:VCALENDAR
VERSION:2.0
PRODID:-//VVV-kantoren van Le Roeulx - ECPv4.9.7//NONSGML v1.0//EN
CALSCALE:GREGORIAN
METHOD:PUBLISH
X-WR-CALNAME:VVV-kantoren van Le Roeulx
X-ORIGINAL-URL:https://www.leroeulxtourisme.be/nl
X-WR-CALDESC:Évènements pour VVV-kantoren van Le Roeulx
BEGIN:VTIMEZONE
TZID:"Europe/Brussels"
BEGIN:DAYLIGHT
TZOFFSETFROM:+0100
TZOFFSETTO:+0200
TZNAME:CEST
DTSTART:20210328T010000
END:DAYLIGHT
BEGIN:STANDARD
TZOFFSETFROM:+0200
TZOFFSETTO:+0100
TZNAME:CET
DTSTART:20211031T010000
END:STANDARD
END:VTIMEZONE
BEGIN:VEVENT
DTSTART;TZID="Europe/Brussels":20210725T093000
DTEND;TZID="Europe/Brussels":20210725T123000
DTSTAMP:20260422T094315
CREATED:20210305T105707Z
LAST-MODIFIED:20210305T110016Z
UID:6740-1627205400-1627216200@www.leroeulxtourisme.be
SUMMARY:Balade accompagnée "Entre Deux Eaux"
DESCRIPTION:Onze verontschuldigingen\, dit bericht is alleen beschikbaar in Frans. \n
URL:https://www.leroeulxtourisme.be/nl/evenement/balade-accompagnee-entre-deux-eaux-2/
LOCATION:Place Hardat\, Place Hardat\, Thieu\, 7070\, Belgique
CATEGORIES:
ATTACH;FMTTYPE=image/jpeg:https://www.leroeulxtourisme.be/wp-content/uploads/2021/03/Entre-2-eaux.jpg
END:VEVENT
END:VCALENDAR