BEGIN:VCALENDAR
VERSION:2.0
PRODID:-//VVV-kantoren van Le Roeulx - ECPv4.9.7//NONSGML v1.0//EN
CALSCALE:GREGORIAN
METHOD:PUBLISH
X-WR-CALNAME:VVV-kantoren van Le Roeulx
X-ORIGINAL-URL:https://www.leroeulxtourisme.be/nl
X-WR-CALDESC:Évènements pour VVV-kantoren van Le Roeulx
BEGIN:VTIMEZONE
TZID:"Europe/Brussels"
BEGIN:DAYLIGHT
TZOFFSETFROM:+0100
TZOFFSETTO:+0200
TZNAME:CEST
DTSTART:20180325T010000
END:DAYLIGHT
BEGIN:STANDARD
TZOFFSETFROM:+0200
TZOFFSETTO:+0100
TZNAME:CET
DTSTART:20181028T010000
END:STANDARD
END:VTIMEZONE
BEGIN:VEVENT
DTSTART;VALUE=DATE:20180708
DTEND;VALUE=DATE:20180709
DTSTAMP:20260423T165505
CREATED:20180307T150724Z
LAST-MODIFIED:20180403T093931Z
UID:3666-1531008000-1531094399@www.leroeulxtourisme.be
SUMMARY:Balade accompagnée : Les Grandes Eaux
DESCRIPTION:Onze verontschuldigingen\, dit bericht is alleen beschikbaar in Frans. \n
URL:https://www.leroeulxtourisme.be/nl/evenement/balade-accompagnee-les-grandes-eaux/
LOCATION:Place Hardat\, Place Hardat\, Thieu\, 7070\, Belgique
CATEGORIES:
ATTACH;FMTTYPE=image/jpeg:https://www.leroeulxtourisme.be/wp-content/uploads/2018/03/canal.jpg
ORGANIZER;CN="Office%20du%20Tourisme":MAILTO:tourisme@leroeulx.be
END:VEVENT
END:VCALENDAR