BEGIN:VCALENDAR
VERSION:2.0
PRODID:-//VVV-kantoren van Le Roeulx - ECPv4.9.7//NONSGML v1.0//EN
CALSCALE:GREGORIAN
METHOD:PUBLISH
X-WR-CALNAME:VVV-kantoren van Le Roeulx
X-ORIGINAL-URL:https://www.leroeulxtourisme.be/nl
X-WR-CALDESC:Évènements pour VVV-kantoren van Le Roeulx
BEGIN:VTIMEZONE
TZID:"Europe/Brussels"
BEGIN:DAYLIGHT
TZOFFSETFROM:+0100
TZOFFSETTO:+0200
TZNAME:CEST
DTSTART:20200329T010000
END:DAYLIGHT
BEGIN:STANDARD
TZOFFSETFROM:+0200
TZOFFSETTO:+0100
TZNAME:CET
DTSTART:20201025T010000
END:STANDARD
END:VTIMEZONE
BEGIN:VEVENT
DTSTART;TZID="Europe/Brussels":20200621T150000
DTEND;TZID="Europe/Brussels":20200621T170000
DTSTAMP:20260425T013047
CREATED:20200430T124727Z
LAST-MODIFIED:20200507T120954Z
UID:6181-1592751600-1592758800@www.leroeulxtourisme.be
SUMMARY:Visites découverte des jardins concours de roses nouvelles et de la roseraie de l’Ancien Hôpital Saint-Jacques (ANNULÉ)
DESCRIPTION:Onze verontschuldigingen\, dit bericht is alleen beschikbaar in Frans. \n
URL:https://www.leroeulxtourisme.be/nl/evenement/visites-decouverte-des-jardins-concours-de-roses-nouvelles-et-de-la-roseraie-de-lancien-hopital-saint-jacques-annule/
LOCATION:Roseraie du Roeulx\, Faubourg de Binche 1\, Le Roeulx\, 7070\, Belgique
CATEGORIES:Visite
ATTACH;FMTTYPE=image/jpeg:https://www.leroeulxtourisme.be/wp-content/uploads/2020/04/Découverte-des-jardins.jpg
END:VEVENT
END:VCALENDAR